BEGIN:VCALENDAR
VERSION:2.0
PRODID:-//Africa Rising Business Council - ECPv6.15.11//NONSGML v1.0//EN
CALSCALE:GREGORIAN
METHOD:PUBLISH
X-ORIGINAL-URL:https://africarisingnetwork.org
X-WR-CALDESC:Events for Africa Rising Business Council
REFRESH-INTERVAL;VALUE=DURATION:PT1H
X-Robots-Tag:noindex
X-PUBLISHED-TTL:PT1H
BEGIN:VTIMEZONE
TZID:Africa/Nairobi
BEGIN:STANDARD
TZOFFSETFROM:+0300
TZOFFSETTO:+0300
TZNAME:EAT
DTSTART:20250101T000000
END:STANDARD
END:VTIMEZONE
BEGIN:VEVENT
DTSTART;TZID=Africa/Nairobi:20260415T090000
DTEND;TZID=Africa/Nairobi:20260416T150000
DTSTAMP:20260422T203718
CREATED:20251111T150347Z
LAST-MODIFIED:20251126T032647Z
UID:1190-1776243600-1776351600@africarisingnetwork.org
SUMMARY:AFRICA RISING 2026: Unlocking Profit\, Purpose & Partnerships MAURITIUS EDITION VOL 2
DESCRIPTION:[wcc_switcher style=”style_02″] \nFrom profit to purpose\, from dialogue to deals – join Africa’s gateway to global growth. The premium forum & expo where CEOs\, investors\, financiers\, innovators\, and policymakers converge to unlock Africa’s next growth story through finance\, trade\, innovation\, and purpose-driven partnerships. \n✅ EXHIBIT AT THE EVENT? \nexhibitors@africarisingnetwork.org \n📧 REGISTER + FORUM & TRAVEL PACKAGE \nVp@africacham.org | secretariat@africarisingnetwork.org | Secretariat@africacham.org \n📞 \n\nVP: +254 7 4572-7255\nSec: +233 55 1442672\n\n 
URL:https://africarisingnetwork.org/arnevent/africa-rising-2026-unlocking-profit-purpose-partnerships-mauritius-edition-vol-2/
LOCATION:Trianon Convention Centre\, Port Mauritius\, Trianon Ave No.2\, Quatre Bornes\, Mauritius
ATTACH;FMTTYPE=image/jpeg:https://africarisingnetwork.org/wp-content/uploads/2025/11/IMG-20251106-WA0002-1.jpg
END:VEVENT
END:VCALENDAR